BEGIN:VCALENDAR
VERSION:2.0
PRODID:-//NAMA - ECPv6.15.17.1//NONSGML v1.0//EN
CALSCALE:GREGORIAN
METHOD:PUBLISH
X-ORIGINAL-URL:https://namamillers.org
X-WR-CALDESC:Events for NAMA
REFRESH-INTERVAL;VALUE=DURATION:PT1H
X-Robots-Tag:noindex
X-PUBLISHED-TTL:PT1H
BEGIN:VTIMEZONE
TZID:America/New_York
BEGIN:DAYLIGHT
TZOFFSETFROM:-0500
TZOFFSETTO:-0400
TZNAME:EDT
DTSTART:20250309T070000
END:DAYLIGHT
BEGIN:STANDARD
TZOFFSETFROM:-0400
TZOFFSETTO:-0500
TZNAME:EST
DTSTART:20251102T060000
END:STANDARD
BEGIN:DAYLIGHT
TZOFFSETFROM:-0500
TZOFFSETTO:-0400
TZNAME:EDT
DTSTART:20260308T070000
END:DAYLIGHT
BEGIN:STANDARD
TZOFFSETFROM:-0400
TZOFFSETTO:-0500
TZNAME:EST
DTSTART:20261101T060000
END:STANDARD
BEGIN:DAYLIGHT
TZOFFSETFROM:-0500
TZOFFSETTO:-0400
TZNAME:EDT
DTSTART:20270314T070000
END:DAYLIGHT
BEGIN:STANDARD
TZOFFSETFROM:-0400
TZOFFSETTO:-0500
TZNAME:EST
DTSTART:20271107T060000
END:STANDARD
END:VTIMEZONE
BEGIN:VEVENT
DTSTART;VALUE=DATE:20260520
DTEND;VALUE=DATE:20260522
DTSTAMP:20260421T145408
CREATED:20251103T221905Z
LAST-MODIFIED:20260407T034535Z
UID:10000058-1779235200-1779407999@namamillers.org
SUMMARY:2026 Corn Dry Milling Conference
DESCRIPTION:Since 1959\, this one-day conference has provided a forum for the entire value chain to share the latest research on corn\, corn milling\, consumer trends\, product production\, quality\, and testing.
URL:https://namamillers.org/event/2026-corn-dry-milling-conference/
LOCATION:Donald Danforth Center\, St. Louis\, MO
ATTACH;FMTTYPE=image/png:https://namamillers.org/wp-content/uploads/2025/11/2026-CDMC-shaped-image.png
END:VEVENT
END:VCALENDAR